BEGIN:VCALENDAR
VERSION:2.0
PRODID:icalendar-ruby
CALSCALE:GREGORIAN
METHOD:PUBLISH
BEGIN:VEVENT
DTSTAMP:20260422T222619Z
UID:202-2609830@19twenty.org
DTSTART:20261030T010000Z
DTEND:20261030T020000Z
CLASS:PUBLIC
CREATED:20260422T145754
DESCRIPTION:Celebrate Recovery is a Christ-centered recovery ministry offer
 ing a safe and supportive community for healing and growth. \nYou may be a
 sking "what is celebrate recover?"\nCelebrate Recovery (CR) is a biblicall
 y-based\, recovery program that addresses our Hurts\, Hang-ups\, and Habit
 s using a 12-step approach based on the Beatitudes from the book of Matthe
 w. CR leaders\, understand your struggles\, as they have experienced freed
 om from addictive and dysfunctional patterns in their own lives.  They ha
 ve been trained to guide people through the 12 Steps/8 Principles\, and to
  provide a safe environment for accountability and building authentic rela
 tionships.\nVisit the Celebrate Recovery website for additional informatio
 n at https://www.celebraterecovery.ca
LAST-MODIFIED:20260422T145754
LOCATION:
SUMMARY:Celebrate Recovery
URL;VALUE=URI:https://www.19twenty.org/events/celebrate-recovery/2026-10-29
ATTACH;FILENAME=1.jpg;FMTTYPE=image/jpeg:https://dq5pwpg1q8ru0.cloudfront.n
 et/2026/02/26/19/42/15/5ef9aee2-63a6-464d-9587-1a3add146d41/1.jpg
END:VEVENT
END:VCALENDAR
