BEGIN:VCALENDAR
VERSION:2.0
PRODID:icalendar-ruby
CALSCALE:GREGORIAN
METHOD:PUBLISH
BEGIN:VEVENT
DTSTAMP:20260422T220053Z
UID:174-2609658@19twenty.org
DTSTART:20261009T130000Z
DTEND:20261009T140000Z
CLASS:PUBLIC
CREATED:20260422T145754
DESCRIPTION:We’d love to see you at Early Morning Prayer each Friday at 6
 :00 AM.\nAs the sun begins to rise and the world is still quiet\, we gathe
 r as a church family to seek God’s presence\, lift up one another\, and 
 begin the day anchored in hope and peace.\nThere’s something special abo
 ut meeting the Lord in the stillness of the morning. Before schedules fill
  up and responsibilities call\, we come together to pray for our church\, 
 our families\, our community\, and the needs on our hearts. Whether you fe
 el full of faith or simply in need of encouragement\, this is a welcoming 
 space for you.\nYou don’t need to prepare anything. You don’t need to 
 pray out loud if you’re not comfortable. Just come as you are.\nIf you
 ’ve never joined us before\, this is a perfect time to start. Even one h
 our in God’s presence can shape the rest of your day in powerful ways.\n
 Set your alarm\, grab a cup of coffee\, and come experience the beauty of 
 beginning your Friday in prayer. We can’t wait to gather with you.\nFrid
 ays at 6:00 AM — We’ll save a seat for you.
LAST-MODIFIED:20260422T145754
LOCATION:
SUMMARY:Early Morning Prayer
URL;VALUE=URI:https://www.19twenty.org/events/early-morning-prayer--174/202
 6-10-09
ATTACH;FILENAME=Beige-Brown-and-White-Minimalist-Modern-Elegant-Christian-P
 rayer-Meeting-Announcement-Facebook-Post-3.jpg;FMTTYPE=image/jpeg:https://
 dq5pwpg1q8ru0.cloudfront.net/2026/02/26/19/45/48/23a39991-90fc-4e93-9607-d
 6c8d2bde507/Beige-Brown-and-White-Minimalist-Modern-Elegant-Christian-Pray
 er-Meeting-Announcement-Facebook-Post-3.jpg
END:VEVENT
END:VCALENDAR
