BEGIN:VCALENDAR
VERSION:2.0
PRODID:icalendar-ruby
CALSCALE:GREGORIAN
METHOD:PUBLISH
BEGIN:VEVENT
DTSTAMP:20260420T064311Z
UID:131-2578098@19twenty.org
DTSTART:20260809T173000Z
DTEND:20260809T183000Z
CLASS:PUBLIC
CREATED:20260419T214925
DESCRIPTION:You’re Invited to Sunday Worship!\nJoin us this Sunday at 10:
 30 AM for our morning worship service. Together\, we’ll lift our hearts 
 in praise\, encounter God’s presence\, and be renewed by His Word. Our p
 rayer is that you will be encouraged\, strengthened\, and empowered by the
  Holy Spirit to live with a Kingdom-minded perspective in your everyday li
 fe.\n‍‍‍ Families are welcome! During the service\, we offer a vibra
 nt Children’s Sunday School where kids can learn about Jesus in a fun an
 d meaningful way\, while you engage in worship and teaching.\nWhether you
 ’ve been part of our church family for years or you’re visiting for th
 e first time\, we’d love for you to come and be part of what God is doin
 g at 19twenty Church.\nWe look forward to worshiping with you this Sunday!
LAST-MODIFIED:20260419T214925
LOCATION:1920 Argyle Drive\, Vancouver\, BC
SUMMARY:Sunday Morning Worship Service
URL;VALUE=URI:https://www.19twenty.org/events/sunday-morning-worship-servic
 e/2026-08-09
ATTACH;FILENAME=ChatGPT-Image-Aug-20%2C-2025-at-10_57_00-AM.png;FMTTYPE=ima
 ge/png:https://dq5pwpg1q8ru0.cloudfront.net/2025/08/20/18/07/22/4379c6f3-5
 f5c-4110-93b6-5b82bcf86540/ChatGPT-Image-Aug-20%252C-2025-at-10_57_00-AM.p
 ng
END:VEVENT
END:VCALENDAR
