BEGIN:VCALENDAR
VERSION:2.0
PRODID:icalendar-ruby
CALSCALE:GREGORIAN
METHOD:PUBLISH
BEGIN:VEVENT
DTSTAMP:20260422T223858Z
UID:98-2608311@19twenty.org
DTSTART:20261029T020000Z
DTEND:20261029T033000Z
CLASS:PUBLIC
CREATED:20260422T145750
DESCRIPTION:Every Wednesday evening at 7:00 PM\, we gather as a church fami
 ly to spend meaningful time in God’s Word and in prayer. Midweek is a be
 autiful opportunity to slow down\, refocus our hearts\, and reconnect with
  the Lord—and with one another.\nTogether\, we read one chapter from the
  Old Testament and one chapter from the New Testament\, take time to refle
 ct and discuss what we’ve read\, and then enter into prayer as a communi
 ty. It’s a relaxed and welcoming space where questions\, insights\, and 
 shared encouragement are always welcome.\nOur prayer time centers on givin
 g thanks for God’s faithfulness\, interceding for one another\, and lift
 ing up the needs of our church and community. Whether you feel ready to sh
 are or would simply like to listen and be refreshed\, there is a place for
  you.\nIf you’re unable to join us in person\, we would still love to ha
 ve you participate. You can connect with us online via Zoom using the link
  below.\nWe hope you’ll join us this Wednesday—we look forward to grow
 ing together in faith and prayer.\nhttps://us02web.zoom.us/j/85471896503
LAST-MODIFIED:20260422T145750
LOCATION:1920 Argyle Dr.\, Vancouver\, BC\, V5P2A8
SUMMARY:Wednesday Bible & Prayer
URL;VALUE=URI:https://www.19twenty.org/events/wednesday-bible-prayer/2026-1
 0-28
ATTACH;FILENAME=Beige-Brown-and-White-Minimalist-Modern-Elegant-Christian-P
 rayer-Meeting-Announcement-Facebook-Post.jpg;FMTTYPE=image/jpeg:https://dq
 5pwpg1q8ru0.cloudfront.net/2026/02/26/19/49/20/1ad5705e-af82-4456-8383-229
 ceb3452bc/Beige-Brown-and-White-Minimalist-Modern-Elegant-Christian-Prayer
 -Meeting-Announcement-Facebook-Post.jpg
END:VEVENT
END:VCALENDAR
